BEGIN:VCALENDAR
VERSION:2.0
PRODID:TU Chemnitz
METHOD:PUBLISH
X-WR-CALNAME:Veranstaltungen der TU Chemnitz
X-WR-TIMEZONE:Europe/Berlin
BEGIN:VEVENT
CLASS:PUBLIC
DTSTART;TZID="Europe/Berlin":20090129T153000
DTEND;TZID="Europe/Berlin":20090129T170000
LOCATION:Thüringer Weg 3\, Zwergencampus
SUMMARY:Kreativnachmittag im Zwergencampus "Winter ist so schön" (TU Chemnitz\, Projekt Familiengerechte Hochschule)
DESCRIPTION:Spiele\, Lieder und Anregungen rund ums Thema Schnee und Winter für unsere Kleinen\nSusann Pilath\nsusann.pilath@s2002.tu-chemnitz.de
ORGANIZER:MAILTO:renate.wissuwa@verwaltung.tu-chemnitz.de
UID:11005@www.tu-chemnitz.de
CREATED:20090112T135600Z
DTSTAMP:20210802T193858Z
END:VEVENT
END:VCALENDAR
