BEGIN:VCALENDAR
VERSION:2.0
PRODID:TU Chemnitz
METHOD:PUBLISH
X-WR-CALNAME:Veranstaltungen der TU Chemnitz
X-WR-TIMEZONE:Europe/Berlin
BEGIN:VEVENT
CLASS:PUBLIC
DTSTART;TZID="Europe/Berlin":20090113T200000
DTEND;TZID="Europe/Berlin":20090114T010000
LOCATION:Club der Kulturen
SUMMARY:shaken\, not stirred - A Night Out with James Bond
DESCRIPTION:"The World Is Not Enough" for us\, we invite u 2 our Bond Night. u should come&dress up so we can have a round of "Casino Royale" with you. u can "Die Another Day" but 2night u will njoy James-Bond-atmosphere @the English Club.
ORGANIZER:MAILTO:elisabeth.schwerdtfeger@s2006.tu-chemnitz.de
UID:10996@www.tu-chemnitz.de
CREATED:20090109T212100Z
DTSTAMP:20210802T193858Z
END:VEVENT
END:VCALENDAR
