BEGIN:VCALENDAR
VERSION:2.0
PRODID:TU Chemnitz
METHOD:PUBLISH
X-WR-CALNAME:Veranstaltungen der TU Chemnitz
X-WR-TIMEZONE:Europe/Berlin
BEGIN:VEVENT
CLASS:PUBLIC
DTSTART;TZID="Europe/Berlin":20090115T194500
DTEND;TZID="Europe/Berlin":20090115T235900
LOCATION:Reichenhainer Str. 55\, Chemnitz (Mensa)
SUMMARY:Globetrotterabend
DESCRIPTION:Tolle studentische Vorträge ... \nholt Euch Tipps für den eigenen geplanten Trip in die weite Welt\nweiter Informationen unter www.mensa-treff.de
ORGANIZER:MAILTO:christian.piek@s1999.tu-chemnitz.de
UID:10986@www.tu-chemnitz.de
CREATED:20090107T143500Z
DTSTAMP:20210802T193859Z
END:VEVENT
END:VCALENDAR
