BEGIN:VCALENDAR
VERSION:2.0
PRODID:TU Chemnitz
METHOD:PUBLISH
X-WR-CALNAME:Veranstaltungen der TU Chemnitz
X-WR-TIMEZONE:Europe/Berlin
BEGIN:VEVENT
CLASS:PUBLIC
DTSTART;TZID="Europe/Berlin":20000615T183000
DTEND;TZID="Europe/Berlin":20000615T200000
LOCATION:Uni-Teil 3: Reichenhainer Str. 70\, Chemnitz (Zentr. Hörsaal- und Seminargebäude)
SUMMARY:Rechtsbücher im Mittelalter (Philosophische Fakultät\, Kolloquium: Neuere Forschungen auf dem Gebiet der Wirtschafts- u. Sozialgeschichte sowie der Geschichte des Mittelalters)
DESCRIPTION:Der Vortrag muß aus Krankheitsgründen leider ausfallen! Er findet möglicherweise im kommenden Wintersemester statt.\nDr. Ulrich-Dieter Oppitz (Neu-Ulm)\nnorbert.schnitzler@phil.tu-chemnitz.de
ORGANIZER:MAILTO:pev@hrz.tu-chemnitz.de
UID:1098@www.tu-chemnitz.de
CREATED:20000411T145800Z
DTSTAMP:20210802T202945Z
END:VEVENT
END:VCALENDAR
