BEGIN:VCALENDAR
VERSION:2.0
PRODID:TU Chemnitz
METHOD:PUBLISH
X-WR-CALNAME:Veranstaltungen der TU Chemnitz
X-WR-TIMEZONE:Europe/Berlin
BEGIN:VEVENT
CLASS:PUBLIC
DTSTART;TZID="Europe/Berlin":20091112T080000
DTEND;TZID="Europe/Berlin":20091114T130000
LOCATION:Reichenhainer Str. 90\, Chemnitz (Zentr. Hörsaal- und Seminargebäude)
SUMMARY:TECHNOMER 2009 (TU Chemnitz\, Professur Kunststoffe)
DESCRIPTION:21. Fachtagung über Verarbeitung und Anwendung von Polymeren\nhttp://www.technomer.de/
ORGANIZER:MAILTO:sven.mauersberger@mb.tu-chemnitz.de
UID:10971@www.tu-chemnitz.de
CREATED:20090106T125300Z
DTSTAMP:20210802T193448Z
END:VEVENT
END:VCALENDAR
