BEGIN:VCALENDAR
VERSION:2.0
PRODID:TU Chemnitz
METHOD:PUBLISH
X-WR-CALNAME:Veranstaltungen der TU Chemnitz
X-WR-TIMEZONE:Europe/Berlin
BEGIN:VEVENT
CLASS:PUBLIC
DTSTART;TZID="Europe/Berlin":20081216T190000
DTEND;TZID="Europe/Berlin":20081216T203000
LOCATION:Reichenhainer Str. 90\, Chemnitz (Zentr. Hörsaal- und Seminargebäude)
SUMMARY:Fremdheitserfahrungen einer Missionarin im 19. Jahrhundert (Maria Heyde) (TU Chemnitz\, Interkulturelle Kommunikation)
DESCRIPTION:Frank Selliger (Wildau)\nArne Weidemann\, arne.weidemann@phil.tu-chemnitz.de
ORGANIZER:MAILTO:corina.markert@phil.tu-chemnitz.de
UID:10938@www.tu-chemnitz.de
CREATED:20081211T134300Z
DTSTAMP:20210802T193916Z
END:VEVENT
END:VCALENDAR
