BEGIN:VCALENDAR
VERSION:2.0
PRODID:TU Chemnitz
METHOD:PUBLISH
X-WR-CALNAME:Veranstaltungen der TU Chemnitz
X-WR-TIMEZONE:Europe/Berlin
BEGIN:VEVENT
CLASS:PUBLIC
DTSTART;TZID="Europe/Berlin":20081212T190000
DTEND;TZID="Europe/Berlin":20081213T020000
LOCATION:Club der Kulturen (gg.über Mensa)
SUMMARY:Interkulturelle Weihnachtsfeier (Club der Kulturen & IUZ-Patenprogramm)
DESCRIPTION:Willkommen zur Weihnachtsfeier mit internationalem Publikum\, Leckereien\, Singen in Sprachen\, die der Campus so hergibt\, Wichteln (Details siehe Homepage)\, Weihnachtsmann und Disko.
ORGANIZER:MAILTO:andrea.vasas-fikri@hrz.tu-chemnitz.de
UID:10935@www.tu-chemnitz.de
CREATED:20081210T235300Z
DTSTAMP:20210802T193921Z
END:VEVENT
END:VCALENDAR
