BEGIN:VCALENDAR
VERSION:2.0
PRODID:TU Chemnitz
METHOD:PUBLISH
X-WR-CALNAME:Veranstaltungen der TU Chemnitz
X-WR-TIMEZONE:Europe/Berlin
BEGIN:VEVENT
CLASS:PUBLIC
DTSTART;TZID="Europe/Berlin":20081216T134500
DTEND;TZID="Europe/Berlin":20081216T160000
LOCATION:Reichenhainer Str. 90\, Chemnitz (Zentr. Hörsaal- und Seminargebäude)
SUMMARY:Entwicklung der Kommunikationsbranche und die strategischen Konsequenzen (Fakultät für Elektrotechnik und Informationstechnik\, Professur Kommunikationsnetze)
DESCRIPTION:- Migration zu neuen Infrastrukturen\n- Technologische Leistungsfähigkeit\n- Was will der Kunde?\n- Breitbandwettbewerb und Marktzugang\n- Analyse aktueller FTTX-Projekte in Europa und \n  Betreibermodelle ...\nDr. Matthias Pohler\, Geschäftsführer Tele-Kabel-Ingenieurgesellschaft (TKI) Chemnitz
ORGANIZER:MAILTO:katrin.muenster@etit.tu-chemnitz.de
UID:10903@www.tu-chemnitz.de
CREATED:20081202T132100Z
DTSTAMP:20210802T193924Z
END:VEVENT
END:VCALENDAR
