BEGIN:VCALENDAR
VERSION:2.0
PRODID:TU Chemnitz
METHOD:PUBLISH
X-WR-CALNAME:Veranstaltungen der TU Chemnitz
X-WR-TIMEZONE:Europe/Berlin
BEGIN:VEVENT
CLASS:PUBLIC
DTSTART;TZID="Europe/Berlin":20081202T213000
DTEND;TZID="Europe/Berlin":20081203T030000
LOCATION:Vettersstr. 52/54\, Chemnitz (Studentenwohnheim)
SUMMARY:[WK] Glühwein- und Feuerzangenbowle Abend (Studentenclub WindKanal e.V.)
DESCRIPTION:  \nIn der kalten Jahreszeit erfreut Euch der Windkanal mit heißem Glühwein und leckerer Feuerzangenbowle.\nwindkanal@tu-chemnitz.de
ORGANIZER:MAILTO:rene.meyer@informatik.tu-chemnitz.de
UID:10899@www.tu-chemnitz.de
CREATED:20081202T083000Z
DTSTAMP:20210802T193923Z
END:VEVENT
END:VCALENDAR
