BEGIN:VCALENDAR
VERSION:2.0
PRODID:TU Chemnitz
METHOD:PUBLISH
X-WR-CALNAME:Veranstaltungen der TU Chemnitz
X-WR-TIMEZONE:Europe/Berlin
BEGIN:VEVENT
CLASS:PUBLIC
DTSTART;TZID="Europe/Berlin":20081203T183000
DTEND;TZID="Europe/Berlin":20081203T200000
LOCATION:Reichenhainer Str. 90\, Chemnitz (Zentr. Hörsaal- und Seminargebäude)
SUMMARY:Die spannende Welt der Börse - Einblicke in den Handel mit Aktien und Zertifikaten (Studentischer Börsenverein Chemnitz-Mittweida e.V.)
DESCRIPTION:Holger Scholze wird kurz über sein Arbeitsleben als Börsenmoderator berichten und\ndanach zum Thema „Die spannende Welt der Börse – Einblicke in den Handel mit\nAktien und Zertifikaten“ referieren.\nHolger Scholze
ORGANIZER:MAILTO:daniel.flade@s2006.tu-chemnitz.de
UID:10891@www.tu-chemnitz.de
CREATED:20081126T105300Z
DTSTAMP:20210802T193923Z
END:VEVENT
END:VCALENDAR
