BEGIN:VCALENDAR
VERSION:2.0
PRODID:TU Chemnitz
METHOD:PUBLISH
X-WR-CALNAME:Veranstaltungen der TU Chemnitz
X-WR-TIMEZONE:Europe/Berlin
BEGIN:VEVENT
CLASS:PUBLIC
DTSTART;TZID="Europe/Berlin":20081126T210000
DTEND;TZID="Europe/Berlin":20081127T030000
LOCATION:Reichenhainer Str. 35/37\, Chemnitz (Studentenwohnheim)
SUMMARY:PEB-Studentenkeller-All you can dance (TU Chemnitz)
DESCRIPTION:Alles an Musik und soviel wie ihr nur tanzen könnt.\nDazu noch ein Getränkespecial um die Hüften zu lockern und zum kreisen zu bringen.\n\nEntritt Frei\nPeb
ORGANIZER:MAILTO:pierre.grzona@s2006.tu-chemnitz.de
UID:10886@www.tu-chemnitz.de
CREATED:20081124T135600Z
DTSTAMP:20210802T193932Z
END:VEVENT
END:VCALENDAR
