BEGIN:VCALENDAR
VERSION:2.0
PRODID:TU Chemnitz
METHOD:PUBLISH
X-WR-CALNAME:Veranstaltungen der TU Chemnitz
X-WR-TIMEZONE:Europe/Berlin
BEGIN:VEVENT
CLASS:PUBLIC
DTSTART;TZID="Europe/Berlin":20081128T160000
DTEND;TZID="Europe/Berlin":20081128T200000
LOCATION:Reichenhainer Str. 90\, Chemnitz (Zentr. Hörsaal- und Seminargebäude)
SUMMARY:Akademisches Festkolloquium (Fakultät für Elektrotechnik und Informationstechnik)
DESCRIPTION:Akademisches Festkolloquium anlässlich der Bestellung/Ernennung von Herrn Dr.-Ing. habil. Thomas Otto und Herrn Dr.-Ing. Stefan Schulz zum Honorarprofessor sowie\nHerrn Honorarprofessor Dr.-Ing. habil. Göran Herrmann\nzum außerplanmäßigen Professor\nFakultät ET/IT
ORGANIZER:MAILTO:karl.nestler@infotech.tu-chemnitz.de
UID:10862@www.tu-chemnitz.de
CREATED:20081120T093800Z
DTSTAMP:20210802T193940Z
END:VEVENT
END:VCALENDAR
