BEGIN:VCALENDAR
VERSION:2.0
PRODID:TU Chemnitz
METHOD:PUBLISH
X-WR-CALNAME:Veranstaltungen der TU Chemnitz
X-WR-TIMEZONE:Europe/Berlin
BEGIN:VEVENT
CLASS:PUBLIC
DTSTART;TZID="Europe/Berlin":20081111T113000
DTEND;TZID="Europe/Berlin":20081111T130000
LOCATION:Wilhelm-Raabe-Str. 43\, Chemnitz
SUMMARY:Gastvortrag zum Thema "Das Scheitern der Föderalismusreform" im Rahmen der Vorlesung "Das politische System der Bundesrepublik Deutschland" (Philosophische Fakultät\, Professur für politische Systeme\, politische Institutionen (Professurinhaber: Prof. Dr. Eckhard Jesse))
DESCRIPTION:Univ.-Prof. Dr. Frank Decker (Rheinische Friedrich-Wilhelms-Universität Bonn)\nDer Vortrag ist kostenlos\, öffentlich - und ohne Anmeldung!
ORGANIZER:MAILTO:daniel.rennert@phil.tu-chemnitz.de
UID:10836@www.tu-chemnitz.de
CREATED:20081110T132800Z
DTSTAMP:20210802T193934Z
END:VEVENT
END:VCALENDAR
