BEGIN:VCALENDAR
VERSION:2.0
PRODID:TU Chemnitz
METHOD:PUBLISH
X-WR-CALNAME:Veranstaltungen der TU Chemnitz
X-WR-TIMEZONE:Europe/Berlin
BEGIN:VEVENT
CLASS:PUBLIC
DTSTART;TZID="Europe/Berlin":20081110T170000
DTEND;TZID="Europe/Berlin":20081110T190000
LOCATION:Reichenhainer Str. 90\, Chemnitz (Zentr. Hörsaal- und Seminargebäude)
SUMMARY:Modernisierung des Bilanzrechts (Fakultät für Wirtschaftswissenschaften\, Professur BWL 1)
DESCRIPTION:Prof. Dr. Carsten Theile/ WP StB Detlef Fleischer\nSusann Deutsch\, 0371/ 531 35770; susann.deutsch@wirtschaft.tu-chemnitz.de
ORGANIZER:MAILTO:susann.deutsch@wirtschaft.tu-chemnitz.de
UID:10835@www.tu-chemnitz.de
CREATED:20081110T085200Z
DTSTAMP:20210802T193929Z
END:VEVENT
END:VCALENDAR
