BEGIN:VCALENDAR
VERSION:2.0
PRODID:TU Chemnitz
METHOD:PUBLISH
X-WR-CALNAME:Veranstaltungen der TU Chemnitz
X-WR-TIMEZONE:Europe/Berlin
BEGIN:VEVENT
CLASS:PUBLIC
DTSTART;TZID="Europe/Berlin":20081114T200000
DTEND;TZID="Europe/Berlin":20081115T020000
LOCATION:Club der Kulturen\, gg.über Mensaeingang
SUMMARY:Afro-brasiliansiche Party (Club der Kulturen)
DESCRIPTION:Party zum Capoeira-Workshop mit buntem Programm: brasilianische Live-Musik von César & Freunde\, Trommelperformance mit Chidi\, Tanzdarbietung und Musik mit DJ José.\nDas ist das Aus für graue Herbsttage.\nCapoeira-Gruppe
ORGANIZER:MAILTO:andrea.vasas-fikri@hrz.tu-chemnitz.de
UID:10827@www.tu-chemnitz.de
CREATED:20081106T211300Z
DTSTAMP:20210802T193933Z
END:VEVENT
END:VCALENDAR
