BEGIN:VCALENDAR
VERSION:2.0
PRODID:TU Chemnitz
METHOD:PUBLISH
X-WR-CALNAME:Veranstaltungen der TU Chemnitz
X-WR-TIMEZONE:Europe/Berlin
BEGIN:VEVENT
CLASS:PUBLIC
DTSTART;TZID="Europe/Berlin":20081115T210000
DTEND;TZID="Europe/Berlin":20081115T230000
LOCATION:* BUNKER-Club * Rosemplatz 7 * gleich am Campus *
SUMMARY:Live: SMOKE BLOW (D) + TYSON (D)
DESCRIPTION:Kiel. Ein Gefriergutlager. Ein Kellerloch. Bösartiger Lärm dringt nach draußen; während Biotope sterben\, ist eine neue Band geboren. Smoke Blow rotzen Nacht für Nacht auf alle Konventionen und blasen ihre Fans mit brachialem Punkadelic gegen die Wand.
ORGANIZER:MAILTO:joerg.schneider@mathematik.tu-chemnitz.de
UID:10826@www.tu-chemnitz.de
CREATED:20081106T131100Z
DTSTAMP:20210802T193934Z
END:VEVENT
END:VCALENDAR
