BEGIN:VCALENDAR
VERSION:2.0
PRODID:TU Chemnitz
METHOD:PUBLISH
X-WR-CALNAME:Veranstaltungen der TU Chemnitz
X-WR-TIMEZONE:Europe/Berlin
BEGIN:VEVENT
CLASS:PUBLIC
DTSTART;TZID="Europe/Berlin":20081124T134500
DTEND;TZID="Europe/Berlin":20081125T180000
LOCATION:Reichenhainer Str. 70\, Chemnitz (Rühlmann-Bau)
SUMMARY:Kurs: "Inkscape - Ein Editor für Vektorgrafiken" (Universitätsrechenzentrum)
DESCRIPTION:Sie erhalten einen Einstieg in die Erstellung und Bearbeitung von Vektorgrafiken. U.a. Skalierbare Grafiken für eine Webseite\, Erstellen eines Organigramms oder eines Flußdiagramms\, Importieren oder Vektorisieren?\nDipl.-Inf. Andreas Heik
ORGANIZER:MAILTO:rosita.pudlat@hrz.tu-chemnitz.de
UID:10820@www.tu-chemnitz.de
CREATED:20081104T143800Z
DTSTAMP:20210802T193938Z
END:VEVENT
END:VCALENDAR
