BEGIN:VCALENDAR
VERSION:2.0
PRODID:TU Chemnitz
METHOD:PUBLISH
X-WR-CALNAME:Veranstaltungen der TU Chemnitz
X-WR-TIMEZONE:Europe/Berlin
BEGIN:VEVENT
CLASS:PUBLIC
DTSTART;TZID="Europe/Berlin":19981126T100000
DTEND;TZID="Europe/Berlin":19981126T170000
LOCATION:Uni-Teil 3: Reichenhainer Str. 70\, Chemnitz (Weinhold-Bau)
SUMMARY:Workshop zum Thema "Modellierung von IGBT (Fakultät für Elektrotechnik und Informationstechnik\, Lehrstuhl Leistungselektronik & Simec GmbH Chemnitz)
DESCRIPTION:Themen:\nModellierung leistungselektronischer Bauelemente (IGBT   Dioden)\nParametergewinnung aus Herstellerangaben oder Messungen\nMöglichkeiten und Grenzen einer rechnergestützte Analyse\nDr. Wintrich; 0371 531 3251; awi@infotech.tu-chemnitz.de
ORGANIZER:MAILTO:awi@infotech.tu-chemnitz.de
UID:108@www.tu-chemnitz.de
CREATED:19981002T095500Z
DTSTAMP:20210802T203551Z
END:VEVENT
END:VCALENDAR
