BEGIN:VCALENDAR
VERSION:2.0
PRODID:TU Chemnitz
METHOD:PUBLISH
X-WR-CALNAME:Veranstaltungen der TU Chemnitz
X-WR-TIMEZONE:Europe/Berlin
BEGIN:VEVENT
CLASS:PUBLIC
DTSTART;TZID="Europe/Berlin":20081029T190000
DTEND;TZID="Europe/Berlin":20081029T203000
LOCATION:Reichenhainer Str. 90\, Chemnitz (Zentr. Hörsaal- und Seminargebäude)
SUMMARY:"Herren des Feuers im Kalten Krieg? Warschauer Vertrag und NATO in den 1970er und 80er Jahren."  (TU Chemnitz\, Chemnitzer Europakolloquium)
DESCRIPTION:Dr. Hendrik Thoß\, TU Chemnitz
ORGANIZER:MAILTO:ines.goerg@phil.tu-chemnitz.de
UID:10792@www.tu-chemnitz.de
CREATED:20081027T094300Z
DTSTAMP:20210802T194007Z
END:VEVENT
END:VCALENDAR
