BEGIN:VCALENDAR
VERSION:2.0
PRODID:TU Chemnitz
METHOD:PUBLISH
X-WR-CALNAME:Veranstaltungen der TU Chemnitz
X-WR-TIMEZONE:Europe/Berlin
BEGIN:VEVENT
CLASS:PUBLIC
DTSTART;TZID="Europe/Berlin":20081030T171500
DTEND;TZID="Europe/Berlin":20081030T190000
LOCATION:Str. der Nationen 62\, Chemnitz (Böttcher-Bau)
SUMMARY:Sitzung des FSR Informatik (Fakultät für Informatik\, Fachschaftsrat Informatik)
DESCRIPTION:Interessierte Gäste sind immer willkommen.
ORGANIZER:MAILTO:christian.werner@s2004.tu-chemnitz.de
UID:10785@www.tu-chemnitz.de
CREATED:20081025T212300Z
DTSTAMP:20210802T194003Z
END:VEVENT
END:VCALENDAR
