BEGIN:VCALENDAR
VERSION:2.0
PRODID:TU Chemnitz
METHOD:PUBLISH
X-WR-CALNAME:Veranstaltungen der TU Chemnitz
X-WR-TIMEZONE:Europe/Berlin
BEGIN:VEVENT
CLASS:PUBLIC
DTSTART;TZID="Europe/Berlin":20081027T200000
DTEND;TZID="Europe/Berlin":20081027T230000
LOCATION:Club der Kulturen
SUMMARY:Podiumsdiskussion - UniversitätGmbH & Co. KG auf dem Weg zum Bachelor  (Studierende der TUC)
DESCRIPTION:Zusammen mit den Referenten wollen wir das Für und Wider des Bachelor-Studiums an der TUC diskutieren. Wie verwertbar ist dieser Abschluss für die Wirtschaft und dich?\nProf. Hummel\, Peter Daetz\, Thomas Hermsdorfer\, Toni Krause\, Jan Rauchhaupt\, Kristian Onischka\, Julia Keller
ORGANIZER:MAILTO:martin.wetzel@s2003.tu-chemnitz.de
UID:10770@www.tu-chemnitz.de
CREATED:20081022T165100Z
DTSTAMP:20210802T194001Z
END:VEVENT
END:VCALENDAR
