BEGIN:VCALENDAR
VERSION:2.0
PRODID:TU Chemnitz
METHOD:PUBLISH
X-WR-CALNAME:Veranstaltungen der TU Chemnitz
X-WR-TIMEZONE:Europe/Berlin
BEGIN:VEVENT
CLASS:PUBLIC
DTSTART;TZID="Europe/Berlin":20081114T090000
DTEND;TZID="Europe/Berlin":20081114T180000
LOCATION:Str. der Nationen 62\, Chemnitz (Altes Heizhaus)
SUMMARY:Innovative Entwicklungsstrategien in den MOE-Staaten (Philosophische Fakultät\, Sozial- u. Wirtschaftsgeographie/Internat. Politik)
DESCRIPTION:Das 12. Politik- und Regionalwissenschaftliche Symposium beleuchtet in 6 Vorträgen in- und ausländischer Wissenschaftler das Thema "Innovative Entwicklungsstrategien in den MOE-Staaten".\nverschiedene Referenten aus D\, PL\, CZ\nProf. Dr. Peter Jurczek\, Tel. 0371-53134911\, peter.jurczek@phil.tu-chemnitz.de
ORGANIZER:MAILTO:ilona.scherm@phil.tu-chemnitz.de
UID:10769@www.tu-chemnitz.de
CREATED:20081022T160000Z
DTSTAMP:20210802T193930Z
END:VEVENT
END:VCALENDAR
