BEGIN:VCALENDAR
VERSION:2.0
PRODID:TU Chemnitz
METHOD:PUBLISH
X-WR-CALNAME:Veranstaltungen der TU Chemnitz
X-WR-TIMEZONE:Europe/Berlin
BEGIN:VEVENT
CLASS:PUBLIC
DTSTART;TZID="Europe/Berlin":20081120T210000
DTEND;TZID="Europe/Berlin":20081120T230000
LOCATION: Kino\, Reichenhainer Str. 35/37\, Keller
SUMMARY:[Campuskino * "mittendrin"] Night on earth (filmclub »mittendrin«)
DESCRIPTION:Eine Nacht\, 5 Episoden und 5 Metropolen. In jeder erlebt ein Taxi-Fahrer mit seinen Gästen kuriose bis aberwitzige Erlebnisse... eine weiteres Jim Jarmush Meisterwerk\, das seine Rolle als origineller Independent-Filmer weiter untermauert.
ORGANIZER:MAILTO:robert.gerstenberger@s2004.tu-chemnitz.de
UID:10765@www.tu-chemnitz.de
CREATED:20081022T100700Z
DTSTAMP:20210802T193940Z
END:VEVENT
END:VCALENDAR
