BEGIN:VCALENDAR
VERSION:2.0
PRODID:TU Chemnitz
METHOD:PUBLISH
X-WR-CALNAME:Veranstaltungen der TU Chemnitz
X-WR-TIMEZONE:Europe/Berlin
BEGIN:VEVENT
CLASS:PUBLIC
DTSTART;TZID="Europe/Berlin":20081111T210000
DTEND;TZID="Europe/Berlin":20081111T230000
LOCATION: Kino\, Reichenhainer Str. 35/37\, Keller
SUMMARY:[Campuskino * "mittendrin"] 42plus (filmclub »mittendrin«)
DESCRIPTION:42 und attraktiv: Christiane macht mit ihrem Mann und ihrer Tochter einen Urlaub in Italien. Als die Tochter jemanden kennenlernt\, wird dieser jedoch von der Mutter verführt... eine ironische Komödie über die Liebe\, die mit 42 keineswegs zu Ende ist
ORGANIZER:MAILTO:robert.gerstenberger@s2004.tu-chemnitz.de
UID:10764@www.tu-chemnitz.de
CREATED:20081022T100200Z
DTSTAMP:20210802T193932Z
END:VEVENT
END:VCALENDAR
