BEGIN:VCALENDAR
VERSION:2.0
PRODID:TU Chemnitz
METHOD:PUBLISH
X-WR-CALNAME:Veranstaltungen der TU Chemnitz
X-WR-TIMEZONE:Europe/Berlin
BEGIN:VEVENT
CLASS:PUBLIC
DTSTART;TZID="Europe/Berlin":20081028T210000
DTEND;TZID="Europe/Berlin":20081028T230000
LOCATION: Kino\, Reichenhainer Str. 35/37\, Keller
SUMMARY:[Campuskino * "mittendrin"] Robert Zimmermann wundert sich über die Liebe (filmclub »mittendrin«)
DESCRIPTION:Feel-Good-Movie über die Liebe in all ihren Spielarten\, die Kluft zwischen den Generationen und die Abscheulichkeit des Wortes "Mutti"\, wenn es aus dem Mund des eigenen Ehemannes kommt.
ORGANIZER:MAILTO:robert.gerstenberger@s2004.tu-chemnitz.de
UID:10761@www.tu-chemnitz.de
CREATED:20081022T094100Z
DTSTAMP:20210802T194011Z
END:VEVENT
END:VCALENDAR
