BEGIN:VCALENDAR
VERSION:2.0
PRODID:TU Chemnitz
METHOD:PUBLISH
X-WR-CALNAME:Veranstaltungen der TU Chemnitz
X-WR-TIMEZONE:Europe/Berlin
BEGIN:VEVENT
CLASS:PUBLIC
DTSTART;TZID="Europe/Berlin":20081023T190000
DTEND;TZID="Europe/Berlin":20081023T203000
LOCATION:Reichenhainer Str. 70\, Chemnitz (Rühlmann-Bau)
SUMMARY:Studentische Macht (TU Chemnitz\, FSR Phil)
DESCRIPTION:Du weißt nicht\, wer im Konzil sitzt? Keine Ahnung\, was ein FSR so treibt? Und wo kommt eigentlich das Semesterticket her? Diese und viele anderen Fragen bekommst du hier erklärt!\nFSR Phil & FSR MB
ORGANIZER:MAILTO:patrick.jajko@s2006.tu-chemnitz.de
UID:10758@www.tu-chemnitz.de
CREATED:20081021T191200Z
DTSTAMP:20210802T194011Z
END:VEVENT
END:VCALENDAR
