BEGIN:VCALENDAR
VERSION:2.0
PRODID:TU Chemnitz
METHOD:PUBLISH
X-WR-CALNAME:Veranstaltungen der TU Chemnitz
X-WR-TIMEZONE:Europe/Berlin
BEGIN:VEVENT
CLASS:PUBLIC
DTSTART;TZID="Europe/Berlin":20081027T193000
DTEND;TZID="Europe/Berlin":20081027T233000
LOCATION:Reichenhainer Str. 55\, Chemnitz (Mensa)
SUMMARY:Unifilm ~ Die Welle~ (Unifilm Chemnitz)
DESCRIPTION:Erinnert Ihr Euch noch? Damals\, in der 8. oder 9. Klasse war „Die Welle“ einer der Schullektürenklassiker schlechthin. Der Neuverfilmung gelingt es\, die wahre Begebenheit modern und authentisch zu erzählen. \nEinlass: 19:30 | Beginn: 20:30 | Eintritt: 2 €
ORGANIZER:MAILTO:frank.scheibner@s2003.tu-chemnitz.de
UID:10753@www.tu-chemnitz.de
CREATED:20081020T222300Z
DTSTAMP:20210802T194000Z
END:VEVENT
END:VCALENDAR
