BEGIN:VCALENDAR
VERSION:2.0
PRODID:TU Chemnitz
METHOD:PUBLISH
X-WR-CALNAME:Veranstaltungen der TU Chemnitz
X-WR-TIMEZONE:Europe/Berlin
BEGIN:VEVENT
CLASS:PUBLIC
DTSTART;TZID="Europe/Berlin":20081023T160000
DTEND;TZID="Europe/Berlin":20081023T180000
LOCATION:Hörsaal 1/232 (Straße der Nationen 62)
SUMMARY:Institutsoffenes Kolloquium (Fakultät für Naturwissenschaften\, Institut für Chemie\, Professur Polymerchemie)
DESCRIPTION:"The behavior of acid-base indicators\, luminophores\, and solvatochromic dyes in lyophilic nanosized dispersions"\nProf. Dr. Nikolay O. Mchedlov-Petrossyan\, Universität Kharkov - Ukraine\nProf. Dr. S. Spange\, Tel.: 531-21230\, E-Mail: stefan.spange@chemie.tu-chemnitz.de
ORGANIZER:MAILTO:sylvia.uhlmann@chemie.tu-chemnitz.de
UID:10734@www.tu-chemnitz.de
CREATED:20081014T111100Z
DTSTAMP:20210802T194003Z
END:VEVENT
END:VCALENDAR
