BEGIN:VCALENDAR
VERSION:2.0
PRODID:TU Chemnitz
METHOD:PUBLISH
X-WR-CALNAME:Veranstaltungen der TU Chemnitz
X-WR-TIMEZONE:Europe/Berlin
BEGIN:VEVENT
CLASS:PUBLIC
DTSTART;TZID="Europe/Berlin":20081021T200000
DTEND;TZID="Europe/Berlin":20081022T010000
LOCATION:Club der Kulturen (gg.über Mensa)
SUMMARY:Faces of Jazz XVIII (Club der Kulturen)
DESCRIPTION:Jazz mit TriOzeán (DD): Eigenkompositionen aus vielseitigen Arrangements\, eingängigen Melodien\, vielschichtigen Rhythmen. Anschließend offene Jam-Session für jedermann. Eigens mitgebrachte Instrumente sind dabei ausdrücklich erwünscht. Eintritt frei.
ORGANIZER:MAILTO:andrea.vasas@phil.tu-chemnitz.de
UID:10731@www.tu-chemnitz.de
CREATED:20081013T203000Z
DTSTAMP:20210802T193957Z
END:VEVENT
END:VCALENDAR
