BEGIN:VCALENDAR
VERSION:2.0
PRODID:TU Chemnitz
METHOD:PUBLISH
X-WR-CALNAME:Veranstaltungen der TU Chemnitz
X-WR-TIMEZONE:Europe/Berlin
BEGIN:VEVENT
CLASS:PUBLIC
DTSTART;TZID="Europe/Berlin":20081013T080000
DTEND;TZID="Europe/Berlin":20081013T120000
LOCATION:Reichenhainer Str. 35/37\, Chemnitz (Studentenwohnheim)
SUMMARY:Heißer Sommer (Filmclub mittendrin)
DESCRIPTION:DDR- Komödie mit Frank Schöbel\, 1968\nim Rahmen der Ausstellung "All you need is beat" im Weinholdbau
ORGANIZER:MAILTO:elisabeth.schwerdtfeger@s2006.tu-chemnitz.de
UID:10726@www.tu-chemnitz.de
CREATED:20081013T013500Z
DTSTAMP:20210802T194008Z
END:VEVENT
END:VCALENDAR
