BEGIN:VCALENDAR
VERSION:2.0
PRODID:TU Chemnitz
METHOD:PUBLISH
X-WR-CALNAME:Veranstaltungen der TU Chemnitz
X-WR-TIMEZONE:Europe/Berlin
BEGIN:VEVENT
CLASS:PUBLIC
DTSTART;TZID="Europe/Berlin":20081117T173000
DTEND;TZID="Europe/Berlin":20081117T173000
LOCATION:Reichenhainer Str. 70\, Chemnitz (Weinhold-Bau)
SUMMARY:Vernissage "All you need is beat" (Philosophische Fakultät)
DESCRIPTION:Hauptaugenmerk der Ausstellung des Bürgerarchivs Leipzig e.V. ist der Beataufstand 1965\, der durch die Restriktionen des Staates und dem Spielverbot verschiedener Musikgruppen (u.a."The Butlers") ausgelöst wurde. Die Ausstellung geht bis zum 28.11.2008
ORGANIZER:MAILTO:elisabeth.schwerdtfeger@s2006.tu-chemnitz.de
UID:10722@www.tu-chemnitz.de
CREATED:20081013T011400Z
DTSTAMP:20210802T193938Z
END:VEVENT
END:VCALENDAR
