BEGIN:VCALENDAR
VERSION:2.0
PRODID:TU Chemnitz
METHOD:PUBLISH
X-WR-CALNAME:Veranstaltungen der TU Chemnitz
X-WR-TIMEZONE:Europe/Berlin
BEGIN:VEVENT
CLASS:PUBLIC
DTSTART;TZID="Europe/Berlin":20090705T080000
DTEND;TZID="Europe/Berlin":20090710T120000
LOCATION:Weimar\, Germany (Weimarhalle)
SUMMARY:12th International Conference on the Formation of Semiconductor Interfaces - From Semiconductors to Nanoscience and Applications with Biology (Fakultät für Naturwissenschaften\, Physik\, UNI Jena)
DESCRIPTION:Prof. Zahn\, Prof. Bechstedt
ORGANIZER:MAILTO:feige@physik.tu-chemnitz.de
UID:10720@www.tu-chemnitz.de
CREATED:20081010T130300Z
DTSTAMP:20210802T193622Z
END:VEVENT
END:VCALENDAR
