BEGIN:VCALENDAR
VERSION:2.0
PRODID:TU Chemnitz
METHOD:PUBLISH
X-WR-CALNAME:Veranstaltungen der TU Chemnitz
X-WR-TIMEZONE:Europe/Berlin
BEGIN:VEVENT
CLASS:PUBLIC
DTSTART;TZID="Europe/Berlin":20090207T100000
DTEND;TZID="Europe/Berlin":20090207T113000
LOCATION:Reichenhainer Str. 90\, Chemnitz (Zentr. Hörsaal- und Seminargebäude)
SUMMARY:Physik\, wie Forschung Spaß macht: Von Thales bis Einstein - Ein Streifzug durch die Entwicklungsgeschichte unseres Weltbildes (Fakultät für Naturwissenschaften\, Institut für Physik\, Chemnitzer Förderverein für Physik e.V.)
DESCRIPTION:
ORGANIZER:MAILTO:feige@physik.tu-chemnitz.de
UID:10719@www.tu-chemnitz.de
CREATED:20081010T125700Z
DTSTAMP:20210802T193846Z
END:VEVENT
END:VCALENDAR
