BEGIN:VCALENDAR
VERSION:2.0
PRODID:TU Chemnitz
METHOD:PUBLISH
X-WR-CALNAME:Veranstaltungen der TU Chemnitz
X-WR-TIMEZONE:Europe/Berlin
BEGIN:VEVENT
CLASS:PUBLIC
DTSTART;TZID="Europe/Berlin":20081212T090000
DTEND;TZID="Europe/Berlin":20081212T170000
LOCATION:Raum wird nach Anmeldung bekannt gegeben
SUMMARY:Präsentationstraining - Workshop (TU Chemnitz\, Saxeed)
DESCRIPTION:Im Workshop geht es darum\, Methoden kennen zu lernen\, die uns sicher präsentieren lassen: wie baue ich eine Präsentation auf\, welche Techniken verwende ich wie während der Präsentation und was ist meine Wirkung als Präsentator – verbal und nonverbal.\nNiko Kleinknecht
ORGANIZER:MAILTO:claudia.kirbach@s2003.tu-chemnitz.de
UID:10700@www.tu-chemnitz.de
CREATED:20081009T150500Z
DTSTAMP:20210802T193923Z
END:VEVENT
END:VCALENDAR
