BEGIN:VCALENDAR
VERSION:2.0
PRODID:TU Chemnitz
METHOD:PUBLISH
X-WR-CALNAME:Veranstaltungen der TU Chemnitz
X-WR-TIMEZONE:Europe/Berlin
BEGIN:VEVENT
CLASS:PUBLIC
DTSTART;TZID="Europe/Berlin":20000405T210000
DTEND;TZID="Europe/Berlin":20000405T210000
LOCATION:Kompass\, Thüringer Weg 3
SUMMARY:Auftaktsparty im Kompass (windKanal e.V.)
DESCRIPTION:Ihr bringt gute Laune mit\, wir Musik und Getränke (auch Freibier).\nEintritt: 3\,- DM
ORGANIZER:MAILTO:tfo@hrz.tu-chemnitz.de
UID:1070@www.tu-chemnitz.de
CREATED:20000403T111700Z
DTSTAMP:20210802T203108Z
END:VEVENT
END:VCALENDAR
