BEGIN:VCALENDAR
VERSION:2.0
PRODID:TU Chemnitz
METHOD:PUBLISH
X-WR-CALNAME:Veranstaltungen der TU Chemnitz
X-WR-TIMEZONE:Europe/Berlin
BEGIN:VEVENT
CLASS:PUBLIC
DTSTART;TZID="Europe/Berlin":20081010T210000
DTEND;TZID="Europe/Berlin":20081010T235900
LOCATION:* BUNKER-Club * Rosenplatz 7 * gleich am Campus *
SUMMARY:Live: LACRIMAS PROFUNDERE (+ support: NEVERTRUST)
DESCRIPTION:Die Gothic-Metaller von Lacrimas Profundere werden nicht selten als die deutsche Antwort auf The 69 Eyes bezeichnet.\nDabei erinnert neben der Musik vor allem auch die dunkle und dennoch warme Stimme von Sänger Rob an die finnischen Kollegen.
ORGANIZER:MAILTO:joerg.schneider@mathematik.tu-chemnitz.de
UID:10642@www.tu-chemnitz.de
CREATED:20081001T112000Z
DTSTAMP:20210802T194002Z
END:VEVENT
END:VCALENDAR
