BEGIN:VCALENDAR
VERSION:2.0
PRODID:TU Chemnitz
METHOD:PUBLISH
X-WR-CALNAME:Veranstaltungen der TU Chemnitz
X-WR-TIMEZONE:Europe/Berlin
BEGIN:VEVENT
CLASS:PUBLIC
DTSTART;TZID="Europe/Berlin":20081011T150000
DTEND;TZID="Europe/Berlin":20081011T170000
LOCATION:Rathaus\, Stadtverordnetensaal
SUMMARY:"Wo studiert? In Chemnitz!" (TU Chemnitz\, Universitätsarchiv Chemnitz)
DESCRIPTION:Am 11.10.2005 um 15.00 Uhr wird die Ausstellung "Wo studiert? In Chemnitz!"\, in welcher das Studieren in Chemnitz von 1836 bis in die Gegenwart aus der Sicht des Studenten gezeigt wird\, feierlich eröffnet.\nUniversitätsarchiv und Schloßbergmuseum Chemnitz
ORGANIZER:MAILTO:stephan.luther@hrz.tu-chemnitz.de
UID:10638@www.tu-chemnitz.de
CREATED:20081001T084300Z
DTSTAMP:20210802T194008Z
END:VEVENT
END:VCALENDAR
