BEGIN:VCALENDAR
VERSION:2.0
PRODID:TU Chemnitz
METHOD:PUBLISH
X-WR-CALNAME:Veranstaltungen der TU Chemnitz
X-WR-TIMEZONE:Europe/Berlin
BEGIN:VEVENT
CLASS:PUBLIC
DTSTART;TZID="Europe/Berlin":20081022T171500
DTEND;TZID="Europe/Berlin":20081022T184500
LOCATION:Reichenhainer Str. 90\, Chemnitz (Zentr. Hörsaal- und Seminargebäude)
SUMMARY:Physikalisches Kolloquium: "Max Plancks Beiträge zur Thermodynamik und neuere Entwicklungen" (Fakultät für Naturwissenschaften\, Institut für Physik)
DESCRIPTION:Prof. Dr. Werner Ebeling; Humboldt-Universität zu Berlin\, Institut für Physik\nProf. Dr. Peter Häussler; Tel.: 531-33140
ORGANIZER:MAILTO:michaela.knierim@physik.tu-chemnitz.de
UID:10627@www.tu-chemnitz.de
CREATED:20080929T141300Z
DTSTAMP:20210802T193958Z
END:VEVENT
END:VCALENDAR
