BEGIN:VCALENDAR
VERSION:2.0
PRODID:TU Chemnitz
METHOD:PUBLISH
X-WR-CALNAME:Veranstaltungen der TU Chemnitz
X-WR-TIMEZONE:Europe/Berlin
BEGIN:VEVENT
CLASS:PUBLIC
DTSTART;TZID="Europe/Berlin":20081015T171500
DTEND;TZID="Europe/Berlin":20081015T184500
LOCATION:Reichenhainer Str. 90\, Chemnitz (Zentr. Hörsaal- und Seminargebäude)
SUMMARY:Physikalisches Kolloquium: "Von den Sternen zur Fusion" (Fakultät für Naturwissenschaften\, Institut für Physik)
DESCRIPTION:Öffentlicher Vortrag für alle naturwissenschaftlich Interessierten\nProf. Dr. Günther Hasinger; Max-Planck-Institut\,Garching & TU München\nProf. Dr. Peter Häussler; Tel.: 531-33140
ORGANIZER:MAILTO:michaela.knierim@physik.tu-chemnitz.de
UID:10626@www.tu-chemnitz.de
CREATED:20080929T140900Z
DTSTAMP:20210802T193958Z
END:VEVENT
END:VCALENDAR
