BEGIN:VCALENDAR
VERSION:2.0
PRODID:TU Chemnitz
METHOD:PUBLISH
X-WR-CALNAME:Veranstaltungen der TU Chemnitz
X-WR-TIMEZONE:Europe/Berlin
BEGIN:VEVENT
CLASS:PUBLIC
DTSTART;TZID="Europe/Berlin":20081006T150000
DTEND;TZID="Europe/Berlin":20081006T170000
LOCATION:Reichenhainer Str. 90\, Chemnitz (Zentr. Hörsaal- und Seminargebäude)
SUMMARY:Festkolloquium anläßlich der Verleihung der Ehrendoktorwürde an Herrn Prof. Dr. Masayoshi Esashi\, Tohoku University Sendai\, Japan (Fakultät für Elektrotechnik und Informationstechnik)
DESCRIPTION:Prof. Dr. Matthes\, Prof. Dr. Geßner\, Prof. Dr. Esashi
ORGANIZER:MAILTO:katrin.muenster@etit.tu-chemnitz.de
UID:10620@www.tu-chemnitz.de
CREATED:20080925T092500Z
DTSTAMP:20210802T193958Z
END:VEVENT
END:VCALENDAR
