BEGIN:VCALENDAR
VERSION:2.0
PRODID:TU Chemnitz
METHOD:PUBLISH
X-WR-CALNAME:Veranstaltungen der TU Chemnitz
X-WR-TIMEZONE:Europe/Berlin
BEGIN:VEVENT
CLASS:PUBLIC
DTSTART;TZID="Europe/Berlin":20081020T190000
DTEND;TZID="Europe/Berlin":20081020T210000
LOCATION:Kino\, Reichenhainer Str. 35/37\, Keller
SUMMARY:MathFilmFestival 2008: Fermat's last tango (filmclub »mittendrin«)
DESCRIPTION:Eintritt frei
ORGANIZER:MAILTO:robert.gerstenberger@s2004.tu-chemnitz.de
UID:10612@www.tu-chemnitz.de
CREATED:20080921T163000Z
DTSTAMP:20210802T194009Z
END:VEVENT
END:VCALENDAR
