BEGIN:VCALENDAR
VERSION:2.0
PRODID:TU Chemnitz
METHOD:PUBLISH
X-WR-CALNAME:Veranstaltungen der TU Chemnitz
X-WR-TIMEZONE:Europe/Berlin
BEGIN:VEVENT
CLASS:PUBLIC
DTSTART;TZID="Europe/Berlin":20081113T090000
DTEND;TZID="Europe/Berlin":20081113T170000
LOCATION:Erfenschlager Str. 73\, Chemnitz
SUMMARY:13. Tage des Betriebs- und Systemingenieurs (TBI´08) - II. Symposium Wissenschaft und Praxis (Fakultät für Maschinenbau\, Institut für Betriebswissenschaften und Fabriksysteme und Deutsche MTM Vereinigung e.V.)
DESCRIPTION:
ORGANIZER:MAILTO:b.seifert@mb.tu-chemnitz.de
UID:10580@www.tu-chemnitz.de
CREATED:20080901T133100Z
DTSTAMP:20210802T193939Z
END:VEVENT
END:VCALENDAR
