BEGIN:VCALENDAR
VERSION:2.0
PRODID:TU Chemnitz
METHOD:PUBLISH
X-WR-CALNAME:Veranstaltungen der TU Chemnitz
X-WR-TIMEZONE:Europe/Berlin
BEGIN:VEVENT
CLASS:PUBLIC
DTSTART;TZID="Europe/Berlin":20080918T123000
DTEND;TZID="Europe/Berlin":20080918T123000
LOCATION:Erfenschlager Str. 73\, Chemnitz
SUMMARY:Promotion  (Fakultät für Maschinenbau)
DESCRIPTION:Entwicklung von Methoden zur ganzheitlichen integrierten Planung wandlungsfähiger Fabriken unter Nutzung der Digitalen Fabrik\nDipl.-Ing. Jens Lehmann
ORGANIZER:MAILTO:kerstin.hensel@mb.tu-chemnitz.de
UID:10575@www.tu-chemnitz.de
CREATED:20080829T092200Z
DTSTAMP:20210802T194021Z
END:VEVENT
END:VCALENDAR
