BEGIN:VCALENDAR
VERSION:2.0
PRODID:TU Chemnitz
METHOD:PUBLISH
X-WR-CALNAME:Veranstaltungen der TU Chemnitz
X-WR-TIMEZONE:Europe/Berlin
BEGIN:VEVENT
CLASS:PUBLIC
DTSTART;TZID="Europe/Berlin":20080922T090500
DTEND;TZID="Europe/Berlin":20080926T130000
LOCATION:Reichenhainer Str. 39\, Chemnitz
SUMMARY:Summer School on Applied Analysis 2008 (Fakultät für Mathematik)
DESCRIPTION:
ORGANIZER:MAILTO:margit.matt@mathematik.tu-chemnitz.de
UID:10567@www.tu-chemnitz.de
CREATED:20080827T074400Z
DTSTAMP:20210802T194022Z
END:VEVENT
END:VCALENDAR
