BEGIN:VCALENDAR
VERSION:2.0
PRODID:TU Chemnitz
METHOD:PUBLISH
X-WR-CALNAME:Veranstaltungen der TU Chemnitz
X-WR-TIMEZONE:Europe/Berlin
BEGIN:VEVENT
CLASS:PUBLIC
DTSTART;TZID="Europe/Berlin":20081016T203000
DTEND;TZID="Europe/Berlin":20081016T230000
LOCATION:Reichenhainer Str. 55\, Chemnitz (Mensa)
SUMMARY:Trampert und Ebermann (Studentenrat\, Referat Kultur)
DESCRIPTION:Das bekannte Polit-Kabarett Trampert und Ebermann hält Einzug ins TAC. In Zitaten erzählt das Duo Wahrheiten die einem die Trähnen in die Augen treiben.\nTrampert und Ebermann\nkultur@stura.tu-chemnitz.de
ORGANIZER:MAILTO:martin.fischer@s2003.tu-chemnitz.de
UID:10502@www.tu-chemnitz.de
CREATED:20080711T154600Z
DTSTAMP:20210802T194009Z
END:VEVENT
END:VCALENDAR
