BEGIN:VCALENDAR
VERSION:2.0
PRODID:TU Chemnitz
METHOD:PUBLISH
X-WR-CALNAME:Veranstaltungen der TU Chemnitz
X-WR-TIMEZONE:Europe/Berlin
BEGIN:VEVENT
CLASS:PUBLIC
DTSTART;TZID="Europe/Berlin":20000412T193000
DTEND;TZID="Europe/Berlin":20000412T210000
LOCATION:Agricola Buchhandlung (am Markt)
SUMMARY:Lesung Erich Loest (Philosophische Fakultät)
DESCRIPTION:Erich Loest liest im Rahmen der Veranstaltungsreihe LITERATUR LIVE aus seinem Roman "Völkerschlachtdenkmal"\nErich Loest\nahnert\, mirko; 0371/3560666; mah117@gmx.de
ORGANIZER:MAILTO:mah@hrz.tu-chemnitz.de
UID:1050@www.tu-chemnitz.de
CREATED:20000329T100300Z
DTSTAMP:20210802T203111Z
END:VEVENT
END:VCALENDAR
