BEGIN:VCALENDAR
VERSION:2.0
PRODID:TU Chemnitz
METHOD:PUBLISH
X-WR-CALNAME:Veranstaltungen der TU Chemnitz
X-WR-TIMEZONE:Europe/Berlin
BEGIN:VEVENT
CLASS:PUBLIC
DTSTART;TZID="Europe/Berlin":20000410T180000
DTEND;TZID="Europe/Berlin":20000410T180000
LOCATION:Jacobikirche (neben Chemnitzer Rathaus)
SUMMARY:Gottesdienst zum Start des Sommersemesters 2000: "Quo vadis? - Warum - Wohin - Wozu?" (Evangelische Studentengemeinde\, Katholische Studentengemeinde\, Campus für Christus\, Studentenmission Deutschland)
DESCRIPTION:
ORGANIZER:MAILTO:iroe@hrz.tu-chemnitz.de
UID:1049@www.tu-chemnitz.de
CREATED:20000328T150000Z
DTSTAMP:20210802T203109Z
END:VEVENT
END:VCALENDAR
