BEGIN:VCALENDAR
VERSION:2.0
PRODID:TU Chemnitz
METHOD:PUBLISH
X-WR-CALNAME:Veranstaltungen der TU Chemnitz
X-WR-TIMEZONE:Europe/Berlin
BEGIN:VEVENT
CLASS:PUBLIC
DTSTART;TZID="Europe/Berlin":20080812T120000
DTEND;TZID="Europe/Berlin":20080812T140000
LOCATION:Reichenhainer Str. 70\, Chemnitz (Weinhold-Bau)
SUMMARY:Sommerferienprogramm: Hier darf gewuchert werden! (TU Chemnitz\, Kreativzentrum TU Chemnitz - CreativeCenter)
DESCRIPTION:Seminar zu den Rechenbüchern des Adam Ries.Kaufläute und Händler rechneten mit Dreisatz\,Abakus und römischen Zahlen.In einer mittelalterlichen Rechenstunde erhälst Du einen Einblick in die Geschichte der Mathematik.Geeignet ab 15 Jahre. Kosten:1\,00 Euro\nDr. Norman Bitterlich\, Korrespondenzzirkel Mathematik Chemnitz\nTel.: (0371)531-23880 E-Mail:ccc@mb.tu-chemnitz.de
ORGANIZER:MAILTO:katja.wagner@mb.tu-chemnitz.de
UID:10474@www.tu-chemnitz.de
CREATED:20080625T165600Z
DTSTAMP:20210802T194038Z
END:VEVENT
END:VCALENDAR
