BEGIN:VCALENDAR
VERSION:2.0
PRODID:TU Chemnitz
METHOD:PUBLISH
X-WR-CALNAME:Veranstaltungen der TU Chemnitz
X-WR-TIMEZONE:Europe/Berlin
BEGIN:VEVENT
CLASS:PUBLIC
DTSTART;TZID="Europe/Berlin":20080729T100000
DTEND;TZID="Europe/Berlin":20080729T160000
LOCATION:Reichenhainer Str. 70\, Chemnitz (Weinhold-Bau)
SUMMARY:Wie sag ich´s meinem Publikum? (TU Chemnitz\, Kreativzentrum TU Chemnitz - CreativeCenter)
DESCRIPTION:Rhetorik-Workshop: Selbstsicheres Auftreten und überzeugend freies Sprechen. Zusätzlich werden die Realisierung eines interessanten Ein- und Ausstiegs und die Visualisierung des Inhaltes vermittelt. Geeignet ab 14 Jahre. Kosten:5\,50 Euro\nProf. Dr. Karl-Heinz Jackstel\, Privatdozent\nTel.: (0371)531-23880 E-Mail:ccc@mb.tu-chemnitz.de
ORGANIZER:MAILTO:katja.wagner@mb.tu-chemnitz.de
UID:10458@www.tu-chemnitz.de
CREATED:20080625T150300Z
DTSTAMP:20210802T194055Z
END:VEVENT
END:VCALENDAR
