BEGIN:VCALENDAR
VERSION:2.0
PRODID:TU Chemnitz
METHOD:PUBLISH
X-WR-CALNAME:Veranstaltungen der TU Chemnitz
X-WR-TIMEZONE:Europe/Berlin
BEGIN:VEVENT
CLASS:PUBLIC
DTSTART;TZID="Europe/Berlin":20080724T100000
DTEND;TZID="Europe/Berlin":20080724T160000
LOCATION:Reichenhainer Str. 70\, Chemnitz (Weinhold-Bau)
SUMMARY:Sommerferienprogramm: Zauberhafte Mathematik - die Algebra der Zauberwürfel (TU Chemnitz\, Kreativzentrum TU Chemnitz - CreativeCenter)
DESCRIPTION:Lösungsstrategien für Schiebefax\, Zauberwürfel und Co. Mit solchen Spielzeugen werden grundlegende Ideen der Algebra entdeckt und anschaulich dargestellt. Geeignet ab 13 Jahre. Kosten: 5\,50 Euro\nDr. Frank Göring\, Fakultät für Mathematik der TU Chemnitz\nTel.: (0371)531-23880 E-Mail:ccc@mb.tu-chemnitz.de
ORGANIZER:MAILTO:katja.wagner@mb.tu-chemnitz.de
UID:10456@www.tu-chemnitz.de
CREATED:20080625T144700Z
DTSTAMP:20210802T194058Z
END:VEVENT
END:VCALENDAR
